BEGIN:VCALENDAR
VERSION:2.0
PRODID:-//Contratero//ES
CALSCALE:GREGORIAN
METHOD:PUBLISH
BEGIN:VEVENT
UID:NSP 124/2025@contratero.es
DTSTAMP:20260424T051045Z
DTSTART:20250404T235959
DTEND:20250405T005959
SUMMARY:Cierre: Soporte y mantenimiento por Aytos Soluciones infor
DESCRIPTION:Soporte y mantenimiento por Aytos Soluciones informáticas SLU\\n\\nOrganismo: Alcaldía del Ayuntamiento de Astorga\\n\\nVer en Contratero: https://contratero.es/contracts/NSP 124/2025
URL:https://contratero.es/contracts/NSP 124/2025
STATUS:CONFIRMED
BEGIN:VALARM
TRIGGER:-P1D
ACTION:DISPLAY
DESCRIPTION:Recordatorio: Soporte y mantenimiento por Ay
END:VALARM
END:VEVENT
END:VCALENDAR